BEGIN:VCALENDAR
VERSION:2.0
PRODID:-//AudioTheme 2.3.8
BEGIN:VEVENT
UID:urn:uuid:6ab7c895-ed1d-4f29-a690-653f69e07514
URL:https://mitchmcvicker.com/concerts/gig-3638/
DTSTART;VALUE=DATE:19990812
SUMMARY:Faith Baptist Church
LOCATION:Faith Baptist Church\, Peshtigo\, WI
END:VEVENT
END:VCALENDAR
