BEGIN:VCALENDAR
VERSION:2.0
PRODID:-//AudioTheme 2.3.8
BEGIN:VEVENT
UID:urn:uuid:7a68d3a4-1b9f-4ca8-af27-bdd5dffe6384
URL:https://mitchmcvicker.com/concerts/gig-3636/
DTSTART;VALUE=DATE:19990807
SUMMARY:5th Avenue Baptist Church
LOCATION:5th Avenue Baptist Church\, Huntington\, WV
END:VEVENT
END:VCALENDAR
