BEGIN:VCALENDAR
VERSION:2.0
PRODID:-//AudioTheme 2.3.8
BEGIN:VEVENT
UID:urn:uuid:f4656287-9a77-4586-b782-1169899a0353
URL:https://mitchmcvicker.com/concerts/gig-3632/
DTSTART;VALUE=DATE:19990729
SUMMARY:Spirit West Coast Festival at Laguna Seca Recreation Area
LOCATION:Spirit West Coast Festival at Laguna Seca Recreation Area\, Monterey\, CA
END:VEVENT
END:VCALENDAR
