BEGIN:VCALENDAR
VERSION:2.0
PRODID:-//AudioTheme 2.3.8
BEGIN:VEVENT
UID:urn:uuid:a2063ddb-5125-41ae-a742-a7ca70c7f283
URL:https://mitchmcvicker.com/concerts/gig-3630/
DTSTART;VALUE=DATE:19990727
SUMMARY:First Assembly Church
LOCATION:First Assembly Church\, Paradise\, CA
END:VEVENT
END:VCALENDAR
