BEGIN:VCALENDAR
VERSION:2.0
PRODID:-//AudioTheme 2.3.8
BEGIN:VEVENT
UID:urn:uuid:33c4115d-3baf-48ca-8622-5128189e15ee
URL:https://mitchmcvicker.com/concerts/gig-3628/
DTSTART;VALUE=DATE:19990724
SUMMARY:First United Methodist Church
LOCATION:First United Methodist Church\, Yuba City\, CA
END:VEVENT
END:VCALENDAR
