BEGIN:VCALENDAR
VERSION:2.0
PRODID:-//AudioTheme 2.3.8
BEGIN:VEVENT
UID:urn:uuid:de11b78c-8192-4336-a6e8-2836bf40ae44
URL:https://mitchmcvicker.com/concerts/gig-3622/
DTSTART;VALUE=DATE:19990709
SUMMARY:First Presbyterian Church
LOCATION:First Presbyterian Church\, Boulder\, CO
END:VEVENT
END:VCALENDAR
