BEGIN:VCALENDAR
VERSION:2.0
PRODID:-//AudioTheme 2.3.8
BEGIN:VEVENT
UID:urn:uuid:e13328a7-c2a7-4fc9-a26b-57541433b82f
URL:https://mitchmcvicker.com/concerts/gig-3620/
DTSTART;VALUE=DATE:19990704
SUMMARY:Youth Camp
LOCATION:Youth Camp\, Window Rock\, AZ
END:VEVENT
END:VCALENDAR
