BEGIN:VCALENDAR
VERSION:2.0
PRODID:-//AudioTheme 2.3.8
BEGIN:VEVENT
UID:urn:uuid:359eeea3-3192-49d7-8b1c-149859ede5f4
URL:https://mitchmcvicker.com/concerts/gig-3618/
DTSTART;VALUE=DATE:19990804
SUMMARY:Spring River Baptist Camp
LOCATION:Spring River Baptist Camp\, Mt Vernon\, MO
END:VEVENT
END:VCALENDAR
