BEGIN:VCALENDAR
VERSION:2.0
PRODID:-//AudioTheme 2.3.8
BEGIN:VEVENT
UID:urn:uuid:29ea289a-b859-4ee8-a5d9-4a9be68fefdb
URL:https://mitchmcvicker.com/concerts/gig-3614/
DTSTART;VALUE=DATE:19990626
SUMMARY:St. Mary's Picnic at LaFollette Park
LOCATION:St. Mary's Picnic at LaFollette Park\, Kaukauna\, WI
END:VEVENT
END:VCALENDAR
