BEGIN:VCALENDAR
VERSION:2.0
PRODID:-//AudioTheme 2.3.8
BEGIN:VEVENT
UID:urn:uuid:6bf44f8a-6cbf-46ff-9456-73393ee062d0
URL:https://mitchmcvicker.com/concerts/gig-3612/
DTSTART;VALUE=DATE:19990625
SUMMARY:His Oasis '99
LOCATION:His Oasis '99\, Plainfield\, WI
END:VEVENT
END:VCALENDAR
