BEGIN:VCALENDAR
VERSION:2.0
PRODID:-//AudioTheme 2.3.8
BEGIN:VEVENT
UID:urn:uuid:f9dc42ca-2858-45c7-b69d-1bb764b371fe
URL:https://mitchmcvicker.com/concerts/gig-3610/
DTSTART;VALUE=DATE:19990507
SUMMARY:Northern Exposure Arts Cafe at NE Christian Church
LOCATION:Northern Exposure Arts Cafe at NE Christian Church\, Rockford\, IL
END:VEVENT
END:VCALENDAR
