BEGIN:VCALENDAR
VERSION:2.0
PRODID:-//AudioTheme 2.3.8
BEGIN:VEVENT
UID:urn:uuid:625bae97-b02c-4080-97a9-35e9a263f5e1
URL:https://mitchmcvicker.com/concerts/gig-3608/
DTSTART;VALUE=DATE:19990502
SUMMARY:Calvary Worship Center
LOCATION:Calvary Worship Center\, Wells Branch\, TX
END:VEVENT
END:VCALENDAR
