BEGIN:VCALENDAR
VERSION:2.0
PRODID:-//AudioTheme 2.3.8
BEGIN:VEVENT
UID:urn:uuid:83692573-1f49-4464-9613-9877770a8e49
URL:https://mitchmcvicker.com/concerts/gig-3607/
DTSTART;VALUE=DATE:19990502
SUMMARY:Harvest Fellowship Church
LOCATION:Harvest Fellowship Church\, San Antonio\, TX
END:VEVENT
END:VCALENDAR
