BEGIN:VCALENDAR
VERSION:2.0
PRODID:-//AudioTheme 2.3.8
BEGIN:VEVENT
UID:urn:uuid:3f32466e-7e29-4031-8834-342a66b9bd57
URL:https://mitchmcvicker.com/concerts/gig-3605/
DTSTART;VALUE=DATE:19990501
SUMMARY:Harvest Fellowship Church
LOCATION:Harvest Fellowship Church\, San Antonio\, TX
END:VEVENT
END:VCALENDAR
