BEGIN:VCALENDAR
VERSION:2.0
PRODID:-//AudioTheme 2.3.8
BEGIN:VEVENT
UID:urn:uuid:1a3713b9-715b-4305-8c1d-174ad4b5c5bb
URL:https://mitchmcvicker.com/concerts/gig-3603/
DTSTART;VALUE=DATE:19990430
SUMMARY:Venue TBD
LOCATION:Venue TBD\, Waxahachie\, TX
END:VEVENT
END:VCALENDAR
