BEGIN:VCALENDAR
VERSION:2.0
PRODID:-//AudioTheme 2.3.8
BEGIN:VEVENT
UID:urn:uuid:702ba025-3e73-4478-a478-5de4ea1f8df8
URL:https://mitchmcvicker.com/concerts/gig-3602/
DTSTART;VALUE=DATE:19990424
SUMMARY:Mitchell High School Auditorium-Night to Feed 50,000 People
LOCATION:Mitchell High School Auditorium-Night to Feed 50\,000 People\, Mitchell\, IN
END:VEVENT
END:VCALENDAR
