BEGIN:VCALENDAR
VERSION:2.0
PRODID:-//AudioTheme 2.3.8
BEGIN:VEVENT
UID:urn:uuid:6d888417-cb0c-48b8-90c5-4451d6ac6b8e
URL:https://mitchmcvicker.com/concerts/gig-3601/
DTSTART;VALUE=DATE:19990422
SUMMARY:Jammin' Java
LOCATION:Jammin' Java\, Franklin\, TN
END:VEVENT
END:VCALENDAR
