BEGIN:VCALENDAR
VERSION:2.0
PRODID:-//AudioTheme 2.3.8
BEGIN:VEVENT
UID:urn:uuid:128b42fc-dfd4-4eef-b065-7c994f1d0465
URL:https://mitchmcvicker.com/concerts/gig-3599/
DTSTART;VALUE=DATE:19990418
SUMMARY:St. Vincent De Paul Catholic Church
LOCATION:St. Vincent De Paul Catholic Church\, Ft Wayne\, IN
END:VEVENT
END:VCALENDAR
