BEGIN:VCALENDAR
VERSION:2.0
PRODID:-//AudioTheme 2.3.8
BEGIN:VEVENT
UID:urn:uuid:32270451-d45d-41d1-bb63-69ddd0898a49
URL:https://mitchmcvicker.com/concerts/gig-3597/
DTSTART;VALUE=DATE:19990417
SUMMARY:Elgin Vineyard Christian Church
LOCATION:Elgin Vineyard Christian Church\, Elgin\, IL
END:VEVENT
END:VCALENDAR
