BEGIN:VCALENDAR
VERSION:2.0
PRODID:-//AudioTheme 2.3.8
BEGIN:VEVENT
UID:urn:uuid:485b83b2-bf45-44e7-be01-ca88d36b454a
URL:https://mitchmcvicker.com/concerts/gig-3596/
DTSTART;VALUE=DATE:19990415
SUMMARY:Jammin' Java
LOCATION:Jammin' Java\, Franklin\, TN
END:VEVENT
END:VCALENDAR
