BEGIN:VCALENDAR
VERSION:2.0
PRODID:-//AudioTheme 2.3.8
BEGIN:VEVENT
UID:urn:uuid:f123d30b-2bc1-4ae9-bece-05ad971eab24
URL:https://mitchmcvicker.com/concerts/gig-3592/
DTSTART;VALUE=DATE:19990410
SUMMARY:Better Book Room
LOCATION:Better Book Room\, Wichita\, KS
END:VEVENT
END:VCALENDAR
