BEGIN:VCALENDAR
VERSION:2.0
PRODID:-//AudioTheme 2.3.8
BEGIN:VEVENT
UID:urn:uuid:32ade339-59fd-44e3-b1c8-3aea9236c6ee
URL:https://mitchmcvicker.com/concerts/gig-3590/
DTSTART;VALUE=DATE:19990409
SUMMARY:St. Francis of Assisi
LOCATION:St. Francis of Assisi\, Wichita\, KS
END:VEVENT
END:VCALENDAR
