BEGIN:VCALENDAR
VERSION:2.0
PRODID:-//AudioTheme 2.3.8
BEGIN:VEVENT
UID:urn:uuid:07951ab5-695a-4220-abbf-0fcc1b4769b3
URL:https://mitchmcvicker.com/concerts/gig-3588/
DTSTART;VALUE=DATE:19990324
SUMMARY:30th Annual Dove Awards-Mitch and Rich Mullins win "Song of the Year" Dove Award for "My Deliverer"
LOCATION:30th Annual Dove Awards-Mitch and Rich Mullins win "Song of the Year" Dove Award for "My Deliverer"\, Nashville\, TN
END:VEVENT
END:VCALENDAR
