BEGIN:VCALENDAR
VERSION:2.0
PRODID:-//AudioTheme 2.3.8
BEGIN:VEVENT
UID:urn:uuid:c4ba3d47-1881-43d7-b47d-7643d29fa230
URL:https://mitchmcvicker.com/concerts/gig-3586/
DTSTART;VALUE=DATE:19990320
SUMMARY:Family Christian Center
LOCATION:Family Christian Center\, Defiance\, OH
END:VEVENT
END:VCALENDAR
