BEGIN:VCALENDAR
VERSION:2.0
PRODID:-//AudioTheme 2.3.8
BEGIN:VEVENT
UID:urn:uuid:81e6be91-9dd7-451e-8b36-0ed89d7ff124
URL:https://mitchmcvicker.com/concerts/gig-3584/
DTSTART;VALUE=DATE:19990319
SUMMARY:Faith Lutheran Church
LOCATION:Faith Lutheran Church\, Troy\, MI
END:VEVENT
END:VCALENDAR
