BEGIN:VCALENDAR
VERSION:2.0
PRODID:-//AudioTheme 2.3.8
BEGIN:VEVENT
UID:urn:uuid:2552dbf7-e4d9-4c66-a334-543f9e903274
URL:https://mitchmcvicker.com/concerts/gig-3580/
DTSTART;VALUE=DATE:19990317
SUMMARY:Kentwood Christian Church
LOCATION:Kentwood Christian Church\, Kentwood\, MI
END:VEVENT
END:VCALENDAR
