BEGIN:VCALENDAR
VERSION:2.0
PRODID:-//AudioTheme 2.3.8
BEGIN:VEVENT
UID:urn:uuid:3218249a-7f56-497a-b327-dca57104cdca
URL:https://mitchmcvicker.com/concerts/gig-3578/
DTSTART;VALUE=DATE:19990305
SUMMARY:Fountain of Life Church
LOCATION:Fountain of Life Church\, Burlington\, NJ
END:VEVENT
END:VCALENDAR
