BEGIN:VCALENDAR
VERSION:2.0
PRODID:-//AudioTheme 2.3.8
BEGIN:VEVENT
UID:urn:uuid:3da6b7d6-3215-450c-8918-7da1330be2a3
URL:https://mitchmcvicker.com/concerts/gig-3576/
DTSTART;VALUE=DATE:19990302
SUMMARY:Shepherd's Shoppe
LOCATION:Shepherd's Shoppe\, San Antonio\, TX
END:VEVENT
END:VCALENDAR
