BEGIN:VCALENDAR
VERSION:2.0
PRODID:-//AudioTheme 2.3.8
BEGIN:VEVENT
UID:urn:uuid:b6bfe377-650c-4795-ad5a-af3c1cb12861
URL:https://mitchmcvicker.com/concerts/gig-3575/
DTSTART;VALUE=DATE:19990227
SUMMARY:WCIC FM 91.5 Radio Station "Sharathon"
LOCATION:WCIC FM 91.5 Radio Station "Sharathon"\, Peoria\, IL
END:VEVENT
END:VCALENDAR
