BEGIN:VCALENDAR
VERSION:2.0
PRODID:-//AudioTheme 2.3.8
BEGIN:VEVENT
UID:urn:uuid:1817b0a8-7e88-436a-bda4-d2e85546edd9
URL:https://mitchmcvicker.com/concerts/gig-3573/
DTSTART;VALUE=DATE:19990226
SUMMARY:WCIC FM 91.5 Radio Station "Sharathon"
LOCATION:WCIC FM 91.5 Radio Station "Sharathon"\, Peoria\, IL
END:VEVENT
END:VCALENDAR
