BEGIN:VCALENDAR
VERSION:2.0
PRODID:-//AudioTheme 2.3.8
BEGIN:VEVENT
UID:urn:uuid:9a13483d-1985-43f9-9c70-c7cd30165ac7
URL:https://mitchmcvicker.com/concerts/gig-3571/
DTSTART;VALUE=DATE:19990225
SUMMARY:Wheaton College Barrows Auditorium
LOCATION:Wheaton College Barrows Auditorium\, Wheaton\, IL
END:VEVENT
END:VCALENDAR
