BEGIN:VCALENDAR
VERSION:2.0
PRODID:-//AudioTheme 2.3.8
BEGIN:VEVENT
UID:urn:uuid:a7cf72d0-b8a1-4ef6-8766-b6f1bbd47028
URL:https://mitchmcvicker.com/concerts/gig-3569/
DTSTART;VALUE=DATE:19990221
SUMMARY:St Timothy Catholic Community
LOCATION:St Timothy Catholic Community\, Mesa\, AZ
END:VEVENT
END:VCALENDAR
