BEGIN:VCALENDAR
VERSION:2.0
PRODID:-//AudioTheme 2.3.8
BEGIN:VEVENT
UID:urn:uuid:eee8e3dd-6879-4d57-be8d-5933250e3d10
URL:https://mitchmcvicker.com/concerts/gig-3567/
DTSTART;VALUE=DATE:19990217
SUMMARY:Tabler Gymnasium
LOCATION:Tabler Gymnasium\, Jasper\, MO
END:VEVENT
END:VCALENDAR
