BEGIN:VCALENDAR
VERSION:2.0
PRODID:-//AudioTheme 2.3.8
BEGIN:VEVENT
UID:urn:uuid:dd2a90ff-035f-4e3a-b752-4031bbe7749e
URL:https://mitchmcvicker.com/concerts/gig-3565/
DTSTART;VALUE=DATE:19990215
SUMMARY:Southland Christian Church
LOCATION:Southland Christian Church\, Lexington\, KY
END:VEVENT
END:VCALENDAR
