BEGIN:VCALENDAR
VERSION:2.0
PRODID:-//AudioTheme 2.3.8
BEGIN:VEVENT
UID:urn:uuid:66acbd47-f6f6-4c7f-af9d-f74f9aa623ff
URL:https://mitchmcvicker.com/concerts/gig-3563/
DTSTART;VALUE=DATE:19990212
SUMMARY:Eagles Landing First Baptist Church
LOCATION:Eagles Landing First Baptist Church\, McDonough\, GA
END:VEVENT
END:VCALENDAR
