BEGIN:VCALENDAR
VERSION:2.0
PRODID:-//AudioTheme 2.3.8
BEGIN:VEVENT
UID:urn:uuid:30188ec6-de24-4e51-8df0-3b219f11eea4
URL:https://mitchmcvicker.com/concerts/gig-3561/
DTSTART;VALUE=DATE:19990206
SUMMARY:Westside Christian Church
LOCATION:Westside Christian Church\, Springfield\, IL
END:VEVENT
END:VCALENDAR
