BEGIN:VCALENDAR
VERSION:2.0
PRODID:-//AudioTheme 2.3.8
BEGIN:VEVENT
UID:urn:uuid:8e711d08-067d-4943-af08-50bef511fd5b
URL:https://mitchmcvicker.com/concerts/gig-3559/
DTSTART;VALUE=DATE:19990205
SUMMARY:Kansas Coliseum
LOCATION:Kansas Coliseum\, Wichita\, KS
END:VEVENT
END:VCALENDAR
