BEGIN:VCALENDAR
VERSION:2.0
PRODID:-//AudioTheme 2.3.8
BEGIN:VEVENT
UID:urn:uuid:4ffa7bb0-2844-4581-afc6-06c78dbd96d7
URL:https://mitchmcvicker.com/concerts/gig-3557/
DTSTART;VALUE=DATE:19990204
SUMMARY:Kingdom Cafe
LOCATION:Kingdom Cafe\, Wichita\, KS
END:VEVENT
END:VCALENDAR
