BEGIN:VCALENDAR
VERSION:2.0
PRODID:-//AudioTheme 2.3.8
BEGIN:VEVENT
UID:urn:uuid:0d45fb7d-6499-44be-b89e-1958966ae29a
URL:https://mitchmcvicker.com/concerts/gig-3556/
DTSTART;VALUE=DATE:19990204
SUMMARY:Faith and Learning Alumni Auditorium/Friends University
LOCATION:Faith and Learning Alumni Auditorium/Friends University\, Wichita\, KS
END:VEVENT
END:VCALENDAR
