BEGIN:VCALENDAR
VERSION:2.0
PRODID:-//AudioTheme 2.3.8
BEGIN:VEVENT
UID:urn:uuid:4d8cc77c-382f-439b-b9fe-5d709769454e
URL:https://mitchmcvicker.com/concerts/gig-3554/
DTSTART;VALUE=DATE:19990202
SUMMARY:Eagle Heights Baptist Church
LOCATION:Eagle Heights Baptist Church\, Oklahoma City\, OK
END:VEVENT
END:VCALENDAR
