BEGIN:VCALENDAR
VERSION:2.0
PRODID:-//AudioTheme 2.3.8
BEGIN:VEVENT
UID:urn:uuid:0351425d-8d6d-4326-a108-3d92a3d6ba22
URL:https://mitchmcvicker.com/concerts/gig-3553/
DTSTART;VALUE=DATE:19990130
SUMMARY:Maplewood Church
LOCATION:Maplewood Church\, Sedalia\, MO
END:VEVENT
END:VCALENDAR
