BEGIN:VCALENDAR
VERSION:2.0
PRODID:-//AudioTheme 2.3.8
BEGIN:VEVENT
UID:urn:uuid:3d8c4533-7c65-4f6a-a39d-465979f63384
URL:https://mitchmcvicker.com/concerts/gig-3551/
DTSTART;VALUE=DATE:19990129
SUMMARY:St Peters United Methodist Church
LOCATION:St Peters United Methodist Church\, Blue Springs\, MO
END:VEVENT
END:VCALENDAR
