BEGIN:VCALENDAR
VERSION:2.0
PRODID:-//AudioTheme 2.3.8
BEGIN:VEVENT
UID:urn:uuid:a48ec679-6db1-4c1a-9d47-638a20d18ea3
URL:https://mitchmcvicker.com/concerts/gig-3550/
DTSTART;VALUE=DATE:19990124
SUMMARY:New Hope Lutheran Church
LOCATION:New Hope Lutheran Church\, Neenah\, WI
END:VEVENT
END:VCALENDAR
