BEGIN:VCALENDAR
VERSION:2.0
PRODID:-//AudioTheme 2.3.8
BEGIN:VEVENT
UID:urn:uuid:76218c8d-28f9-4a21-89bd-907066c00e1c
URL:https://mitchmcvicker.com/concerts/gig-3548/
DTSTART;VALUE=DATE:19990124
SUMMARY:Inter- Faith Fellowship Church
LOCATION:Inter- Faith Fellowship Church\, Green Bay\, WI
END:VEVENT
END:VCALENDAR
