BEGIN:VCALENDAR
VERSION:2.0
PRODID:-//AudioTheme 2.3.8
BEGIN:VEVENT
UID:urn:uuid:be0bed70-0961-44b1-aa9b-8c4be44bfe94
URL:https://mitchmcvicker.com/concerts/gig-3547/
DTSTART;VALUE=DATE:19990123
SUMMARY:Cup O'Joy Coffeehouse
LOCATION:Cup O'Joy Coffeehouse\, Green Bay\, WI
END:VEVENT
END:VCALENDAR
