BEGIN:VCALENDAR
VERSION:2.0
PRODID:-//AudioTheme 2.3.8
BEGIN:VEVENT
UID:urn:uuid:c3ae1916-bcac-4ba7-b5ed-8eebae72a98a
URL:https://mitchmcvicker.com/concerts/gig-3544/
DTSTART;VALUE=DATE:19990119
SUMMARY:Spring Arbor University
LOCATION:Spring Arbor University\, Spring Arbor\, MI
END:VEVENT
END:VCALENDAR
