BEGIN:VCALENDAR
VERSION:2.0
PRODID:-//AudioTheme 2.3.8
BEGIN:VEVENT
UID:urn:uuid:1cb31b28-a494-46f4-9ddd-941eb05c3efd
URL:https://mitchmcvicker.com/concerts/gig-3542/
DTSTART;VALUE=DATE:19990116
SUMMARY:Baltimore Lutheran School
LOCATION:Baltimore Lutheran School\, Baltimore\, MD
END:VEVENT
END:VCALENDAR
