BEGIN:VCALENDAR
VERSION:2.0
PRODID:-//AudioTheme 2.3.8
BEGIN:VEVENT
UID:urn:uuid:b7f30975-6dd3-4ede-9f33-fb9eef3c9860
URL:https://mitchmcvicker.com/concerts/gig-3540/
DTSTART;VALUE=DATE:19990115
SUMMARY:Cup of Jo Jo Coffee House
LOCATION:Cup of Jo Jo Coffee House\, Malvern (Philadelphia_\, PA
END:VEVENT
END:VCALENDAR
