BEGIN:VCALENDAR
VERSION:2.0
PRODID:-//AudioTheme 2.3.8
BEGIN:VEVENT
UID:urn:uuid:86e6c1b5-6647-480b-9454-3f078d849ca0
URL:https://mitchmcvicker.com/concerts/gig-3538/
DTSTART;VALUE=DATE:19990110
SUMMARY:College Hill Presbyterian Church
LOCATION:College Hill Presbyterian Church\, Cincinnati\, OH
END:VEVENT
END:VCALENDAR
