BEGIN:VCALENDAR
VERSION:2.0
PRODID:-//AudioTheme 2.3.8
BEGIN:VEVENT
UID:urn:uuid:105c71cc-2a5e-4baf-bbcc-b2db0fafd5b0
URL:https://mitchmcvicker.com/concerts/gig-3536/
DTSTART;VALUE=DATE:19990109
SUMMARY:Christ Community Church
LOCATION:Christ Community Church\, Nesbit\, MS
END:VEVENT
END:VCALENDAR
